Package: FlowSorted.CordBloodCombined.450k Version: 1.25.0 Maintainer: Lucas A. Salas MaintainerEmail: lucas.a.salas.diaz at dartmouth.edu git_url: https://git.bioconductor.org/packages/FlowSorted.CordBloodCombined.450k git_branch: devel git_last_commit: 01470b6 git_last_commit_date: 2025-04-15 10:13:16 -0400 (Tue, 15 Apr 2025)