Package: FlowSorted.DLPFC.450k Version: 1.47.0 Command: /home/biocbuild/bbs-3.23-bioc/R/bin/R CMD build --keep-empty-dirs --no-resave-data FlowSorted.DLPFC.450k StartedAt: 2025-11-04 11:20:03 -0500 (Tue, 04 Nov 2025) EndedAt: 2025-11-04 11:21:20 -0500 (Tue, 04 Nov 2025) EllapsedTime: 76.5 seconds RetCode: 0 Status: OK PackageFile: FlowSorted.DLPFC.450k_1.47.0.tar.gz PackageFileSize: 123.7 MiB