Package: FlowSorted.DLPFC.450k Version: 1.47.0 Command: /home/biocbuild/bbs-3.23-bioc/R/bin/R CMD check --install=check:FlowSorted.DLPFC.450k.install-out.txt --library=/home/biocbuild/bbs-3.23-bioc/R/site-library --timings FlowSorted.DLPFC.450k_1.47.0.tar.gz StartedAt: 2025-11-06 12:20:03 -0500 (Thu, 06 Nov 2025) EndedAt: 2025-11-06 12:23:05 -0500 (Thu, 06 Nov 2025) EllapsedTime: 182.0 seconds RetCode: 0 Status: WARNINGS CheckDir: FlowSorted.DLPFC.450k.Rcheck Warnings: 1