Package: FlowSorted.DLPFC.450k Version: 1.45.0 Command: /home/biocbuild/bbs-3.22-bioc/R/bin/R CMD build --keep-empty-dirs --no-resave-data FlowSorted.DLPFC.450k StartedAt: 2025-07-08 11:17:56 -0400 (Tue, 08 Jul 2025) EndedAt: 2025-07-08 11:19:13 -0400 (Tue, 08 Jul 2025) EllapsedTime: 77.1 seconds RetCode: 0 Status: OK PackageFile: FlowSorted.DLPFC.450k_1.45.0.tar.gz PackageFileSize: 123.7 MiB