Package: FlowSorted.DLPFC.450k Version: 1.45.0 Command: /home/biocbuild/bbs-3.22-bioc/R/bin/R CMD check --install=check:FlowSorted.DLPFC.450k.install-out.txt --library=/home/biocbuild/bbs-3.22-bioc/R/site-library --timings FlowSorted.DLPFC.450k_1.45.0.tar.gz StartedAt: 2025-07-10 12:21:38 -0400 (Thu, 10 Jul 2025) EndedAt: 2025-07-10 12:24:40 -0400 (Thu, 10 Jul 2025) EllapsedTime: 182.4 seconds RetCode: 0 Status: WARNINGS CheckDir: FlowSorted.DLPFC.450k.Rcheck Warnings: 1