Package: FlowSorted.DLPFC.450k Version: 1.45.0 Command: /home/biocbuild/bbs-3.22-bioc/R/bin/R CMD INSTALL FlowSorted.DLPFC.450k StartedAt: 2025-07-08 11:01:35 -0400 (Tue, 08 Jul 2025) EndedAt: 2025-07-08 11:02:39 -0400 (Tue, 08 Jul 2025) EllapsedTime: 64.0 seconds RetCode: 0 Status: OK