Package: GIGSEAdata Version: 1.27.0 Command: /home/biocbuild/bbs-3.22-bioc/R/bin/R CMD INSTALL GIGSEAdata StartedAt: 2025-07-10 10:55:27 -0400 (Thu, 10 Jul 2025) EndedAt: 2025-07-10 10:55:32 -0400 (Thu, 10 Jul 2025) EllapsedTime: 4.7 seconds RetCode: 0 Status: OK