Package: GSBenchMark Version: 1.29.0 Maintainer: Bahman Afsari MaintainerEmail: bahman at jhu.edu git_url: https://git.bioconductor.org/packages/GSBenchMark git_branch: devel git_last_commit: 6c6a482 git_last_commit_date: 2025-04-15 09:55:28 -0400 (Tue, 15 Apr 2025)