Package: GSBenchMark Version: 1.29.0 Command: /home/biocbuild/bbs-3.22-bioc/R/bin/R CMD check --install=check:GSBenchMark.install-out.txt --library=/home/biocbuild/bbs-3.22-bioc/R/site-library --timings GSBenchMark_1.29.0.tar.gz StartedAt: 2025-07-17 12:27:36 -0400 (Thu, 17 Jul 2025) EndedAt: 2025-07-17 12:28:10 -0400 (Thu, 17 Jul 2025) EllapsedTime: 34.6 seconds RetCode: 0 Status: OK CheckDir: GSBenchMark.Rcheck Warnings: 0