Package: GSBenchMark Version: 1.29.0 Command: /home/biocbuild/bbs-3.22-bioc/R/bin/R CMD INSTALL GSBenchMark StartedAt: 2025-07-08 10:55:50 -0400 (Tue, 08 Jul 2025) EndedAt: 2025-07-08 10:55:52 -0400 (Tue, 08 Jul 2025) EllapsedTime: 1.8 seconds RetCode: 0 Status: OK