Package: GSE103322 Version: 1.15.0 Command: /home/biocbuild/bbs-3.22-bioc/R/bin/R CMD build --keep-empty-dirs --no-resave-data GSE103322 StartedAt: 2025-07-10 11:20:54 -0400 (Thu, 10 Jul 2025) EndedAt: 2025-07-10 11:21:30 -0400 (Thu, 10 Jul 2025) EllapsedTime: 36.1 seconds RetCode: 0 Status: OK PackageFile: GSE103322_1.15.0.tar.gz PackageFileSize: 218.7 KiB