Package: GSE103322 Version: 1.15.0 Command: /home/biocbuild/bbs-3.22-bioc/R/bin/R CMD INSTALL GSE103322 StartedAt: 2025-07-10 10:58:38 -0400 (Thu, 10 Jul 2025) EndedAt: 2025-07-10 10:58:54 -0400 (Thu, 10 Jul 2025) EllapsedTime: 16.4 seconds RetCode: 0 Status: OK