Package: GSE13015 Version: 1.17.0 Command: /home/biocbuild/bbs-3.22-bioc/R/bin/R CMD build --keep-empty-dirs --no-resave-data GSE13015 StartedAt: 2025-07-10 11:20:56 -0400 (Thu, 10 Jul 2025) EndedAt: 2025-07-10 11:21:28 -0400 (Thu, 10 Jul 2025) EllapsedTime: 31.4 seconds RetCode: 0 Status: OK PackageFile: GSE13015_1.17.0.tar.gz PackageFileSize: 218.5 KiB