Package: GSE13015 Version: 1.17.0 Command: /home/biocbuild/bbs-3.22-bioc/R/bin/R CMD INSTALL GSE13015 StartedAt: 2025-07-10 10:58:39 -0400 (Thu, 10 Jul 2025) EndedAt: 2025-07-10 10:58:57 -0400 (Thu, 10 Jul 2025) EllapsedTime: 17.9 seconds RetCode: 0 Status: OK