Package: GSE62944 Version: 1.37.0 Command: /home/biocbuild/bbs-3.22-bioc/R/bin/R CMD build --keep-empty-dirs --no-resave-data GSE62944 StartedAt: 2025-07-10 11:21:00 -0400 (Thu, 10 Jul 2025) EndedAt: 2025-07-10 11:22:24 -0400 (Thu, 10 Jul 2025) EllapsedTime: 84.4 seconds RetCode: 0 Status: OK PackageFile: GSE62944_1.37.0.tar.gz PackageFileSize: 221 KiB