Package: GSE62944 Version: 1.37.0 Command: /home/biocbuild/bbs-3.22-bioc/R/bin/R CMD INSTALL GSE62944 StartedAt: 2025-07-10 10:59:50 -0400 (Thu, 10 Jul 2025) EndedAt: 2025-07-10 11:00:06 -0400 (Thu, 10 Jul 2025) EllapsedTime: 16.5 seconds RetCode: 0 Status: OK