Package: GSVAdata Version: 1.45.0 Command: /home/biocbuild/bbs-3.22-bioc/R/bin/R CMD INSTALL GSVAdata StartedAt: 2025-07-08 10:58:19 -0400 (Tue, 08 Jul 2025) EndedAt: 2025-07-08 10:58:39 -0400 (Tue, 08 Jul 2025) EllapsedTime: 19.6 seconds RetCode: 0 Status: OK