Package: GWASdata Version: 1.47.0 Command: /home/biocbuild/bbs-3.22-bioc/R/bin/R CMD INSTALL GWASdata StartedAt: 2025-07-10 11:04:33 -0400 (Thu, 10 Jul 2025) EndedAt: 2025-07-10 11:04:42 -0400 (Thu, 10 Jul 2025) EllapsedTime: 9.4 seconds RetCode: 0 Status: OK