Package: GenomicDistributionsData Version: 1.17.0 Maintainer: Kristyna Kupkova MaintainerEmail: kristynakupkova at gmail.com git_url: https://git.bioconductor.org/packages/GenomicDistributionsData git_branch: devel git_last_commit: 02183dc git_last_commit_date: 2025-04-15 10:15:49 -0400 (Tue, 15 Apr 2025)