Package: GenomicDistributionsData Version: 1.19.0 Command: /home/biocbuild/bbs-3.23-bioc/R/bin/R CMD build --keep-empty-dirs --no-resave-data GenomicDistributionsData StartedAt: 2025-10-30 11:17:41 -0400 (Thu, 30 Oct 2025) EndedAt: 2025-10-30 11:18:37 -0400 (Thu, 30 Oct 2025) EllapsedTime: 55.5 seconds RetCode: 0 Status: OK PackageFile: GenomicDistributionsData_1.19.0.tar.gz PackageFileSize: 228.7 KiB