Package: GenomicDistributionsData Version: 1.17.0 Command: /home/biocbuild/bbs-3.22-bioc/R/bin/R CMD INSTALL GenomicDistributionsData StartedAt: 2025-07-08 11:00:58 -0400 (Tue, 08 Jul 2025) EndedAt: 2025-07-08 11:01:34 -0400 (Tue, 08 Jul 2025) EllapsedTime: 36.0 seconds RetCode: 0 Status: OK