Package: GeuvadisTranscriptExpr Version: 1.39.0 Command: /home/biocbuild/bbs-3.23-bioc/R/bin/R CMD INSTALL GeuvadisTranscriptExpr StartedAt: 2025-10-30 10:56:07 -0400 (Thu, 30 Oct 2025) EndedAt: 2025-10-30 10:56:11 -0400 (Thu, 30 Oct 2025) EllapsedTime: 3.7 seconds RetCode: 0 Status: OK