Package: GeuvadisTranscriptExpr Version: 1.37.1 Command: /home/biocbuild/bbs-3.22-bioc/R/bin/R CMD check --install=check:GeuvadisTranscriptExpr.install-out.txt --library=/home/biocbuild/bbs-3.22-bioc/R/site-library --timings GeuvadisTranscriptExpr_1.37.1.tar.gz StartedAt: 2025-07-08 12:23:49 -0400 (Tue, 08 Jul 2025) EndedAt: 2025-07-08 12:24:58 -0400 (Tue, 08 Jul 2025) EllapsedTime: 68.5 seconds RetCode: 0 Status: OK CheckDir: GeuvadisTranscriptExpr.Rcheck Warnings: 0