Package: GeuvadisTranscriptExpr Version: 1.37.1 Command: /home/biocbuild/bbs-3.22-bioc/R/bin/R CMD INSTALL GeuvadisTranscriptExpr StartedAt: 2025-07-08 10:55:59 -0400 (Tue, 08 Jul 2025) EndedAt: 2025-07-08 10:56:04 -0400 (Tue, 08 Jul 2025) EllapsedTime: 4.5 seconds RetCode: 0 Status: OK