Package: HCAData Version: 1.25.0 Command: /home/biocbuild/bbs-3.22-bioc/R/bin/R CMD INSTALL HCAData StartedAt: 2025-07-10 11:02:58 -0400 (Thu, 10 Jul 2025) EndedAt: 2025-07-10 11:03:35 -0400 (Thu, 10 Jul 2025) EllapsedTime: 36.8 seconds RetCode: 0 Status: OK