Package: HCATonsilData Version: 1.9.0 Command: /home/biocbuild/bbs-3.23-bioc/R/bin/R CMD build --keep-empty-dirs --no-resave-data HCATonsilData StartedAt: 2025-11-06 11:22:10 -0500 (Thu, 06 Nov 2025) EndedAt: 2025-11-06 11:23:22 -0500 (Thu, 06 Nov 2025) EllapsedTime: 72.0 seconds RetCode: 0 Status: OK PackageFile: HCATonsilData_1.9.0.tar.gz PackageFileSize: 6.247 MiB