Package: HCATonsilData Version: 1.7.0 Command: /home/biocbuild/bbs-3.22-bioc/R/bin/R CMD INSTALL HCATonsilData StartedAt: 2025-07-08 11:02:47 -0400 (Tue, 08 Jul 2025) EndedAt: 2025-07-08 11:03:18 -0400 (Tue, 08 Jul 2025) EllapsedTime: 30.8 seconds RetCode: 0 Status: OK