Package: HD2013SGI Version: 1.51.0 Command: /home/biocbuild/bbs-3.23-bioc/R/bin/R CMD INSTALL HD2013SGI StartedAt: 2025-11-06 10:57:49 -0500 (Thu, 06 Nov 2025) EndedAt: 2025-11-06 10:58:05 -0500 (Thu, 06 Nov 2025) EllapsedTime: 15.8 seconds RetCode: 0 Status: OK