Package: HD2013SGI Version: 1.49.0 Command: /home/biocbuild/bbs-3.22-bioc/R/bin/R CMD build --keep-empty-dirs --no-resave-data HD2013SGI StartedAt: 2025-07-08 11:21:55 -0400 (Tue, 08 Jul 2025) EndedAt: 2025-07-08 11:28:04 -0400 (Tue, 08 Jul 2025) EllapsedTime: 369.1 seconds RetCode: 0 Status: OK PackageFile: HD2013SGI_1.49.0.tar.gz PackageFileSize: 526.5 MiB