Package: HD2013SGI Version: 1.49.0 Command: /home/biocbuild/bbs-3.22-bioc/R/bin/R CMD INSTALL HD2013SGI StartedAt: 2025-07-08 10:57:52 -0400 (Tue, 08 Jul 2025) EndedAt: 2025-07-08 10:58:08 -0400 (Tue, 08 Jul 2025) EllapsedTime: 15.4 seconds RetCode: 0 Status: OK