Package: HDCytoData Version: 1.29.0 Command: /home/biocbuild/bbs-3.22-bioc/R/bin/R CMD build --keep-empty-dirs --no-resave-data HDCytoData StartedAt: 2025-07-10 11:23:23 -0400 (Thu, 10 Jul 2025) EndedAt: 2025-07-10 11:25:27 -0400 (Thu, 10 Jul 2025) EllapsedTime: 124.3 seconds RetCode: 0 Status: OK PackageFile: HDCytoData_1.29.0.tar.gz PackageFileSize: 1.543 MiB