Package: HDCytoData Version: 1.29.0 Command: /home/biocbuild/bbs-3.22-bioc/R/bin/R CMD INSTALL HDCytoData StartedAt: 2025-07-10 11:04:01 -0400 (Thu, 10 Jul 2025) EndedAt: 2025-07-10 11:04:34 -0400 (Thu, 10 Jul 2025) EllapsedTime: 32.5 seconds RetCode: 0 Status: OK