Package: HEEBOdata Version: 1.47.0 Command: /home/biocbuild/bbs-3.22-bioc/R/bin/R CMD build --keep-empty-dirs --no-resave-data HEEBOdata StartedAt: 2025-07-10 11:24:03 -0400 (Thu, 10 Jul 2025) EndedAt: 2025-07-10 11:24:08 -0400 (Thu, 10 Jul 2025) EllapsedTime: 5.3 seconds RetCode: 0 Status: OK PackageFile: HEEBOdata_1.47.0.tar.gz PackageFileSize: 8.269 MiB