Package: HMP16SData Version: 1.31.0 Command: /home/biocbuild/bbs-3.23-bioc/R/bin/R CMD build --keep-empty-dirs --no-resave-data HMP16SData StartedAt: 2025-11-11 11:24:18 -0500 (Tue, 11 Nov 2025) EndedAt: 2025-11-11 11:26:38 -0500 (Tue, 11 Nov 2025) EllapsedTime: 140.1 seconds RetCode: 0 Status: OK PackageFile: HMP16SData_1.31.0.tar.gz PackageFileSize: 16.35 MiB