Package: HMP16SData Version: 1.31.0 Command: /home/biocbuild/bbs-3.23-bioc/R/bin/R CMD INSTALL HMP16SData StartedAt: 2025-11-11 10:58:16 -0500 (Tue, 11 Nov 2025) EndedAt: 2025-11-11 10:58:46 -0500 (Tue, 11 Nov 2025) EllapsedTime: 29.3 seconds RetCode: 0 Status: OK