Package: HMP16SData Version: 1.29.1 Command: /home/biocbuild/bbs-3.22-bioc/R/bin/R CMD build --keep-empty-dirs --no-resave-data HMP16SData StartedAt: 2025-07-10 11:24:57 -0400 (Thu, 10 Jul 2025) EndedAt: 2025-07-10 11:27:12 -0400 (Thu, 10 Jul 2025) EllapsedTime: 135.6 seconds RetCode: 0 Status: OK PackageFile: HMP16SData_1.29.1.tar.gz PackageFileSize: 16.36 MiB