Package: HMP16SData Version: 1.29.1 Command: /home/biocbuild/bbs-3.22-bioc/R/bin/R CMD INSTALL HMP16SData StartedAt: 2025-07-10 10:58:14 -0400 (Thu, 10 Jul 2025) EndedAt: 2025-07-10 10:58:48 -0400 (Thu, 10 Jul 2025) EllapsedTime: 33.2 seconds RetCode: 0 Status: OK