Package: HMP2Data Version: 1.25.0 Command: /home/biocbuild/bbs-3.23-bioc/R/bin/R CMD build --keep-empty-dirs --no-resave-data HMP2Data StartedAt: 2025-11-04 11:25:38 -0500 (Tue, 04 Nov 2025) EndedAt: 2025-11-04 11:26:51 -0500 (Tue, 04 Nov 2025) EllapsedTime: 72.7 seconds RetCode: 0 Status: OK PackageFile: HMP2Data_1.25.0.tar.gz PackageFileSize: 5.147 MiB