Package: HMP2Data Version: 1.25.0 Command: /home/biocbuild/bbs-3.23-bioc/R/bin/R CMD INSTALL HMP2Data StartedAt: 2025-11-04 11:00:41 -0500 (Tue, 04 Nov 2025) EndedAt: 2025-11-04 11:01:19 -0500 (Tue, 04 Nov 2025) EllapsedTime: 37.1 seconds RetCode: 0 Status: OK