Package: HMP2Data Version: 1.23.0 Command: /home/biocbuild/bbs-3.22-bioc/R/bin/R CMD build --keep-empty-dirs --no-resave-data HMP2Data StartedAt: 2025-07-08 11:23:56 -0400 (Tue, 08 Jul 2025) EndedAt: 2025-07-08 11:25:07 -0400 (Tue, 08 Jul 2025) EllapsedTime: 70.5 seconds RetCode: 0 Status: OK PackageFile: HMP2Data_1.23.0.tar.gz PackageFileSize: 5.146 MiB