Package: HMP2Data Version: 1.23.0 Command: /home/biocbuild/bbs-3.22-bioc/R/bin/R CMD INSTALL HMP2Data StartedAt: 2025-07-08 11:00:29 -0400 (Tue, 08 Jul 2025) EndedAt: 2025-07-08 11:01:04 -0400 (Tue, 08 Jul 2025) EllapsedTime: 35.1 seconds RetCode: 0 Status: OK