Package: HSMMSingleCell Version: 1.31.0 Command: /home/biocbuild/bbs-3.23-bioc/R/bin/R CMD build --keep-empty-dirs --no-resave-data HSMMSingleCell StartedAt: 2025-11-06 11:24:50 -0500 (Thu, 06 Nov 2025) EndedAt: 2025-11-06 11:24:52 -0500 (Thu, 06 Nov 2025) EllapsedTime: 2.0 seconds RetCode: 0 Status: OK PackageFile: HSMMSingleCell_1.31.0.tar.gz PackageFileSize: 16.09 MiB