Package: HSMMSingleCell Version: 1.29.0 Command: /home/biocbuild/bbs-3.22-bioc/R/bin/R CMD build --keep-empty-dirs --no-resave-data HSMMSingleCell StartedAt: 2025-07-08 11:24:17 -0400 (Tue, 08 Jul 2025) EndedAt: 2025-07-08 11:24:19 -0400 (Tue, 08 Jul 2025) EllapsedTime: 2.0 seconds RetCode: 0 Status: OK PackageFile: HSMMSingleCell_1.29.0.tar.gz PackageFileSize: 16.09 MiB