Package: HSMMSingleCell Version: 1.29.0 Command: /home/biocbuild/bbs-3.22-bioc/R/bin/R CMD INSTALL HSMMSingleCell StartedAt: 2025-07-08 11:04:21 -0400 (Tue, 08 Jul 2025) EndedAt: 2025-07-08 11:04:23 -0400 (Tue, 08 Jul 2025) EllapsedTime: 2.2 seconds RetCode: 0 Status: OK