Package: HarmanData Version: 1.37.0 Command: /home/biocbuild/bbs-3.22-bioc/R/bin/R CMD build --keep-empty-dirs --no-resave-data HarmanData StartedAt: 2025-07-10 11:22:06 -0400 (Thu, 10 Jul 2025) EndedAt: 2025-07-10 11:22:31 -0400 (Thu, 10 Jul 2025) EllapsedTime: 24.6 seconds RetCode: 0 Status: OK PackageFile: HarmanData_1.37.0.tar.gz PackageFileSize: 54.65 MiB