Package: HarmanData Version: 1.37.0 Command: /home/biocbuild/bbs-3.22-bioc/R/bin/R CMD INSTALL HarmanData StartedAt: 2025-07-10 10:55:35 -0400 (Thu, 10 Jul 2025) EndedAt: 2025-07-10 10:55:50 -0400 (Thu, 10 Jul 2025) EllapsedTime: 15.3 seconds RetCode: 0 Status: OK