Package: HarmonizedTCGAData Version: 1.33.0 Command: /home/biocbuild/bbs-3.23-bioc/R/bin/R CMD build --keep-empty-dirs --no-resave-data HarmonizedTCGAData StartedAt: 2025-10-30 11:19:35 -0400 (Thu, 30 Oct 2025) EndedAt: 2025-10-30 11:20:09 -0400 (Thu, 30 Oct 2025) EllapsedTime: 33.9 seconds RetCode: 0 Status: OK PackageFile: HarmonizedTCGAData_1.33.0.tar.gz PackageFileSize: 719.3 KiB