Package: HarmonizedTCGAData Version: 1.33.0 Command: /home/biocbuild/bbs-3.23-bioc/R/bin/R CMD INSTALL HarmonizedTCGAData StartedAt: 2025-10-30 10:57:05 -0400 (Thu, 30 Oct 2025) EndedAt: 2025-10-30 10:57:18 -0400 (Thu, 30 Oct 2025) EllapsedTime: 13.2 seconds RetCode: 0 Status: OK