Package: HelloRangesData Version: 1.37.0 Command: /home/biocbuild/bbs-3.23-bioc/R/bin/R CMD INSTALL HelloRangesData StartedAt: 2025-11-04 10:55:51 -0500 (Tue, 04 Nov 2025) EndedAt: 2025-11-04 10:55:55 -0500 (Tue, 04 Nov 2025) EllapsedTime: 3.4 seconds RetCode: 0 Status: OK