Package: HelloRangesData Version: 1.35.0 Command: /home/biocbuild/bbs-3.22-bioc/R/bin/R CMD build --keep-empty-dirs --no-resave-data HelloRangesData StartedAt: 2025-07-08 11:22:54 -0400 (Tue, 08 Jul 2025) EndedAt: 2025-07-08 11:23:28 -0400 (Tue, 08 Jul 2025) EllapsedTime: 34.5 seconds RetCode: 0 Status: OK PackageFile: HelloRangesData_1.35.0.tar.gz PackageFileSize: 45.73 MiB